BEGIN:VCALENDAR
VERSION:2.0
PRODID:-//Afak Alajial - Ecole Maternelle / Primaire / Collège / Lycée. - ECPv5.4.0.2//NONSGML v1.0//EN
CALSCALE:GREGORIAN
METHOD:PUBLISH
X-WR-CALNAME:Afak Alajial - Ecole Maternelle / Primaire / Collège / Lycée.
X-ORIGINAL-URL:https://www.afak-alajial.ac.ma
X-WR-CALDESC:évènements pour Afak Alajial - Ecole Maternelle / Primaire / Collège / Lycée.
BEGIN:VTIMEZONE
TZID:UTC
BEGIN:STANDARD
TZOFFSETFROM:+0000
TZOFFSETTO:+0000
TZNAME:UTC
DTSTART:20190101T000000
END:STANDARD
END:VTIMEZONE
BEGIN:VEVENT
DTSTART;VALUE=DATE:20191212
DTEND;VALUE=DATE:20191213
DTSTAMP:20260420T064816
CREATED:20210502T183511Z
LAST-MODIFIED:20210502T184026Z
UID:6840-1576108800-1576195199@www.afak-alajial.ac.ma
SUMMARY:Activité hygiene corporel
DESCRIPTION:Activité hygiene corporel
URL:https://www.afak-alajial.ac.ma/evenement/activite-hygiene-corporel/
LOCATION:Afak Alajial
CATEGORIES:Maternelle
ATTACH;FMTTYPE=image/jpeg:https://www.afak-alajial.ac.ma/wp-content/uploads/2021/05/IMG_3299-scaled.jpg
END:VEVENT
END:VCALENDAR